BEGIN:VCALENDAR
VERSION:2.0
PRODID:-//eventon.com NONSGML v1.0//EN
CALSCALE:GREGORIAN
METHOD:PUBLISH
BEGIN:VEVENT
UID:69e5fc8e88f50
DTSTAMP:20260420T101438Z
DTSTART:20251016T123000Z
DTEND:20251016T153000Z
LOCATION:
SUMMARY:Help out in the Orchard
DESCRIPTION:Come along and help with Orchard tasks. Gentle exercise in the 
 great outdoors. Tools\,  refreshments and cakes provided!\nhttps://northawo
 rchard.com/events/help-out-in-the-orchard-32/
URL:https://northaworchard.com/events/help-out-in-the-orchard-32/
END:VEVENT
END:VCALENDAR